Workbook

Sheet IBCShowResultsLogSubmission
A1: Area 1 International Show Results 2022
A2: Show Host: Salvador Alemany | B2: Chapter: Asociación Mesoamericana y del Caribe del pez betta AMCB | D2: Show Chair: Salvador Alemany
A3: Show Type: IBC International, Area 1 | B3: Date: abril 9y 10 2022
A4: Judges | B4: Head Judge: Aurelia Ogles
B5: Judges: Salvador Alemany y Aurelia Ogles
B6: Apprentices: Dagmar Vélez, Guiomar Rodriguez, Noel Padilla .
B7: Trainee-Apprentices:Seminario 3; Ismael Rodriguez, Jeriel Rodriguez, Iván Roldán, María Torres
A8: Group A: Self Bred | E8: Total Entries
A9: Variety A: Longfin HM Single tail | B9: Name 1st Place | C9: Name 2nd Place | D9: Name 3rd Place
A10: A1. Red STM | B10: Obed Gutierrez | C10: Obed Gutierrez | E10: 2
A11: A2. Black STM & Black Lace STM
A12: A3. Light Solid STM yellow, cellophane, white, pastel, orange | B12: Obed Gutierrez | E12: 1
A13: A4. Royal Blue STM | B13: Siegbert Illig | E13: 1
A14: A5. Steel Blue STM
A15: A6. Green/Turquoise STM | B15: Siegbert Illig | C15: Siegbert Illig | D15: Siegbert Illig | E15: 3
A16: A7. Dark Body Metallic STM, All Solid Colors
A17: A8. Light Body Metallic STM, All Solid Colors
A18: A9. Marble, STM, 2 or 3 colors incl. flesh | B18: David Rivera | C18: Iván Roldán | E18: 2
A19: A10. Grizzle, Pineapple, Black Orchid, 2 & 3 color Multis STM | B19: Obed Gutierrez | E19: 1
A20: A11. Patterned: Multi 4 or more colors, STM. | B20: Siegbert Illig | E20: 1
A21: A12. Butterfly STM | B21: Iván Roldán | C21: Iván Roldán | E21: 2
A22: A13. Halfmoon STM Bicolor (Light body & dark body)
A23: A14. Dragon Longfin Male, Light Body BiColor with any colored fins | B23: Dagmar Vélez Roldán | E23: 1
A24: A15. Non-iridescent Dark STF: red, black, black lace
A25: A16. Light Solid STF: yellow, cellophane, white, pastel, orange
A26: A17. Royal Blue STF | B26: Siegbert Illig | C26: Siegbert Illig | E26: 2
A27: A18. Steel Blue STF | B27: Siegbert Illig | C27: David Rivera | E27: 2
A28: A19. Green/Turquoise STF | B28: Siegbert Illig | C28: Siegbert Illig | D28: Siegbert Illig | E28: 3
A29: A20. Metallic STF, All Solid light and dark colors | B29: Dagmar Vélez Roldán | E29: 1
A30: A21. Marble STF 2 or 3 colors incl. flesh | B30: Iván Roldán | E30: 1
A31: A22. Grizzle, Pina, Blk Orchid, 2 & 3 color Multi STF | B31: Dagmar Velez Roldán | E31: 1
A32: A23. Patterned Multi with 4 or more colors STF
A33: A24. Butterfly STF | B33: Obed Gutierrez | C33: Jaqueline Gray | D33: Jaqueline Gray | E33: 5
A34: A25. Bicolor STF (Light body & dark body)
A35: A26. Dragon Longfin Fem Lgt Body BiColor any colored fins.
A36: Variety B: Shortfin | B36: Name 1st Place | C36: Name 2nd Place | D36: Name 3rd Place
A37: B1. Show Plakat STM Solid dark non-iridescent | B37: Obed Gutierrez | C37: Obed Gutierrez | D37: Iván Roldán | E37: 10
A38: B2. Show Plakat STM Dark iridescent | B38: Dagmar Vélez Roldán | C38: Dagmar Vélez Roldán | D38: David Rivera | E38: 4
A39: B3. Show Plakat STM Light non-metallic (see A3 above) | B39: Obed Gutierrez | C39: Obed Gutierrez | D39: Iván Roldán | E39: 8
A40: B4. Show Plakat STM Marble, 2 or 3 colors incl. flesh | B40: Obed Gutierrez | C40: Noel Padilla | D40: Obed Gutierrez | E40: 3
...

Sheet Points
A1: Show Points Log
A2: Exhibitor names | B2: TOTALS FROM EACH SECTION BELOW | J2: Overall | K2: Overall
A3: Overall Points | B3: Var A | C3: Var b | D3: Var c | E3: Var d | F3: Var e | G3: BOS | J3: TOTAL | K3: copied
A4: Obed Gutierrez | B4: 165 | C4: 430 | D4: 250 | G4: 260 | J4: =SUM(B4:I4) -> 1105 | K4: 1105
A5: Siegbert Illig | B5: 215 | C5: 35 | D5: 15 | E5: 35 | J5: =SUM(B5:I5) -> 300 | K5: 300
A6: David Rivera | B6: 35 | C6: 30 | D6: 105 | J6: =SUM(B6:I6) -> 170 | K6: 170
A7: Iván Roldán | B7: 70 | C7: 285 | D7: 75 | E7: 35 | J7: =SUM(B7:I7) -> 465 | K7: 465
A8: Dagmar Vélez Roldán | B8: 100 | C8: 60 | E8: 20 | G8: 100 | J8: =SUM(B8:I8) -> 280 | K8: 280
A9: Noel Padilla | B9: 0 | C9: 65 | J9: =SUM(B9:I9) -> 65 | K9: 65
A10: Jaqueline Gray | B10: 25 | C10: 35 | J10: =SUM(B10:I10) -> 60 | K10: 60
A14: ALL CLASSES | B14: FIRST = 20, Second =15, Third = 10 | AA14: BOV 40, RBOV 30
AB15: A1 | AC15: A14 | AD15: A6 | AE15: A24 | AG15: A Total
A16: Variety A | B16: A1 | C16: A2 | D16: A3 | E16: A4 | F16: A5 | G16: A6 | H16: A7 | I16: A8 | J16: A9 | K16: A10 | L16: A11 | M16: A12 | N16: A13 | O16: A14 | P16: A15 | Q16: A16 | R16: A17 | S16: A18 | T16: A19 | U16: A20 | V16: A21 | W16: A22 | X16: A23 | Y16: A24 | Z16: A25 | AA16: A26 | AB16: bov A m | AC16: bov A f | AD16: rbov A m | AE16: rbov A f | AF16: A TOTAL | AG16: copied
A17: Obed Gutierrez | B17: 35 | D17: 20 | K17: 20 | Y17: 20 | AB17: 40 | AE17: 30 | AF17: 165 | AG17: 165
A18: Siegbert Illig | E18: 20 | G18: 45 | L18: 20 | R18: 35 | S18: 20 | T18: 45 | AD18: 30 | AF18: 215 | AG18: 215
A19: David Rivera | J19: 20 | S19: 15 | AF19: 35 | AG19: 35
A20: Iván Roldán | J20: 15 | M20: 35 | V20: 20 | AF20: 70 | AG20: 70
A21: Dagmar Vélez Roldán | O21: 20 | U21: 20 | W21: 20 | AC21: 40 | AF21: 100 | AG21: 100
A22: Noel Padilla | AF22: 0 | AG22: 0
A23: Jaqueline Gray | Y23: 25 | AF23: 25 | AG23: 25
AB28: b4 | AC28: b21 | AD28: b1 | AE28: b18 | AG28: B Total
A29: Variety B | B29: B1 | C29: B2 | D29: B3 | E29: B4 | F29: B5 | G29: B6 | H29: B7 | I29: B8 | J29: B9 | K29: B10 | L29: B11 | M29: B12 | N29: B13 | O29: B14 | P29: B15 | Q29: B16 | R29: B17 | S29: B18 | T29: B19 | U29: B20 | V29: B21 | W29: B22 | X29: B23 | AB29: bov B m | AC29: bov B f | AD29: rbov B m | AE29: rbov B f | AF29: B TOTAL | AG29: copied
A30: Obed Gutierrez | B30: 35 | D30: 35 | E30: 30 | G30: 45 | H30: 10 | J30: 10 | K30: 30 | N30: 35 | S30: 15 | T30: 20 | V30: 20 | W30: 35 | AB30: 40 | AC30: 40 | AD30: 30 | AF30: =SUM(B30:AE30) -> 430 | AG30: 430
A31: Siegbert Illig | L31: 35 | AF31: =SUM(B31:AE31) -> 35 | AG31: 35
A32: David Rivera | C32: 10 | U32: 20 | AF32: =SUM(B32:AE32) -> 30 | AG32: 30
A33: Iván Roldán | B33: 10 | D33: 10 | H33: 35 | I33: 20 | J33: 20 | L33: 10 | O33: 15 | P33: 20 | R33: 10 | S33: 30 | T33: 25 | U33: 15 | V33: 15 | X33: 20 | AE33: 30 | AF33: =SUM(B33:AE33) -> 285 | AG33: 285
A34: Dagmar Vélez Roldán | C34: 35 | P34: 25 | AF34: =SUM(B34:AE34) -> 60 | AG34: 60
A35: Noel Padilla | E35: 15 | J35: 15 | K35: 15 | O35: 20 | AF35: =SUM(B35:AE35) -> 65 | AG35: 65
A36: Jaqueline Gray | R36: 35 | AF36: =SUM(B36:AE36) -> 35 | AG36: 35
AB41: c2 | AC41: c10 | AD41: c4 | AE41: c10 | AG41: C Totals
A42: Variety C | B42: C1 | C42: C2 | D42: C3 | E42: C4 | F42: C5 | G42: C6 | H42: C7 | I42: C8 | J42: C9 | K42: C10 | L42: C11 | AB42: bov C m | AC42: bov C f | AD42: rbov C m | AE42: rbov C f | AF42: C TOTAL | AG42: copied
A43: Obed Gutierrez | B43: 15 | C43: 25 | E43: 45 | H43: 30 | K43: 35 | AC43: 40 | AD43: 30 | AE43: 30 | AF43: =SUM(B43:AE43) -> 250 | AG43: 250
A44: Siegbert Illig | H44: 15 | AF44: =SUM(B44:AE44) -> 15 | AG44: 15
A45: David Rivera | C45: 20 | J45: 35 | K45: 10 | AB45: 40 | AF45: =SUM(B45:AE45) -> 105 | AG45: 105
A46: Iván Roldán | B46: 30 | G46: 45 | AF46: =SUM(B46:AE46) -> 75 | AG46: 75
A47: Dagmar Vélez Roldán
A48: Noel Padilla
A49: Jaqueline Gray
A55: Variety D | B55: D1 | C55: D2 | D55: D3 | E55: D4 | F55: D5 | G55: D6 | H55: D7 | I55: D8 | O55: D classes winners are moved to A, B, C for BOV/RBOV. If they win BOV, their points are counted here in Variety D for Variety winner. Make sure not to count these points twice towards Overall points. | AF55: D TOTAL
A56: Obed Gutierrez
...

Sheet ShowContinuousLog
A1: "Betta Expo Internacional Primavera" "abril 2022" | H1: Columns can be rearranged for judging, results, auction, inputting entry no for classes etc. Contact Christina Simpson if you are unsure how to use these features (sort and filter)
A4: =A1 -> "Betta Expo Internacional Primavera" "abril 2022"
A5: Continuous No | B5: Breeder's Fish # | C5: Class No | D5: Entry No | E5: Auction | F5: Minimum Bid | G5: Breeder Labels & Remarks | H5: Exhibitor Name | I5: Judging Comments/Class Changes | J5: Place | K5: Best Of | L5: Selling Price | M5: Bidder No
A7: 1 | B7: 1 | C7: A1 | D7: 2 | E7: N | G7: RED | H7: Obed Gutierrez | J7: 2nd
A8: 2 | B8: 2 | C8: A1 | D8: 3 | E8: N | G8: RED | H8: Obed Gutierrez | J8: 1st | K8: Best of Variety Male Cat. A and Reserve Best of Show
A9: 3 | B9: 3 | C9: A3 | D9: 1 | E9: N | G9: CELLOPHANE | H9: Obed Gutierrez | J9: 1st
A10: 4 | B10: 4 | C10: A10 | D10: 4 | E10: N | G10: MULTICOLOR | H10: Obed Gutierrez | J10: 1st
A11: 5 | B11: 5 | C11: B21 | D11: 1 | E11: N | G11: BLACK DRAGON | H11: Obed Gutierrez | I11: from B14 to B21 | J11: 1st | K11: Best of Variety Female Cat B
A12: 6 | B12: 6 | C12: A24 | D12: 2 | E12: N | G12: RED | H12: Obed Gutierrez | J12: 1st | K12: Reserve best of Variety Femelae Cat A.
A13: 7 | B13: 7 | C13: B1 | D13: 2 | E13: N | G13: RED | H13: Obed Gutierrez
A14: 8 | B14: 8 | C14: B1 | D14: 3 | E14: N | G14: RED | H14: Obed Gutierrez | J14: 1st | K14: reserve best of variety Male cat B
A15: 9 | B15: 9 | C15: B1 | D15: 4 | E15: N | G15: RED | H15: Obed Gutierrez | J15: 2nd
A16: 10 | B16: 10 | C16: B3 | D16: 4 | E16: N | G16: CELLOPHANE | H16: Obed Gutierrez | J16: 2nd
A17: 11 | B17: 11 | C17: B3 | D17: 5 | E17: N | G17: CELLOPHANE | H17: Obed Gutierrez
A18: 12 | B18: 12 | C18: B3 | D18: 6 | E18: N | G18: CELLOPHANE | H18: Obed Gutierrez | J18: 1st
A19: 13 | B19: 13 | C19: B4 | D19: 2 | E19: N | G19: MARBLE | H19: Obed Gutierrez | J19: 3rd
A20: 14 | B20: 14 | C20: B4 | D20: 3 | E20: N | G20: MARBLE | H20: Obed Gutierrez | J20: 1st | K20: best of variety male cat B and Best of show Male
A21: 15 | B21: 15 | C21: B6 | D21: 11 | E21: N | G21: GRIZZLE | H21: Obed Gutierrez | J21: 1st
A22: 16 | B22: 16 | C22: B6 | D22: 12 | E22: N | G22: BLACK ORCHID | H22: Obed Gutierrez | J22: 3rd
A23: 17 | B23: 17 | C23: B6 | D23: 13 | E23: N | G23: BLACK ORCHID | H23: Obed Gutierrez | J23: 2nd
A24: 18 | B24: 18 | C24: B6 | D24: 6 | E24: N | G24: MULTICOLOR | H24: Obed Gutierrez | I24: from B7 to B6
A25: 19 | B25: 19 | C25: B7 | D25: 2 | E25: N | G25: MULTICOLOR | H25: Obed Gutierrez | J25: 2nd
A26: 20 | B26: 20 | C26: B7 | D26: 3 | E26: N | G26: MULTICOLOR | H26: Obed Gutierrez | J26: 3rd
A27: 21 | B27: 21 | C27: B10 | D27: 2 | E27: N | G27: DRAGON | H27: Obed Gutierrez | J27: 1st
A28: 22 | B28: 22 | C28: B10 | D28: 3 | E28: N | G28: DRAGON | H28: Obed Gutierrez | J28: 3rd
A29: 23 | B29: 23 | C29: B13 | D29: 1 | E29: N | G29: SYMMETRICAL | H29: Obed Gutierrez | J29: 2nd
A30: 24 | B30: 24 | C30: B13 | D30: 2 | E30: N | G30: SYMMETRICAL | H30: Obed Gutierrez | J30: 1st
A31: 25 | B31: 25 | C31: B18 | D31: 2 | E31: N | G31: PINEAPPLE | H31: Obed Gutierrez | J31: 2nd
A32: 26 | B32: 26 | C32: B19 | D32: 2 | E32: N | G32: MULTICOLOR | H32: Obed Gutierrez | J32: 1st
A33: 27 | B33: 27 | C33: B22 | D33: 1 | E33: N | G33: RED DRAGON | H33: Obed Gutierrez | J33: 1st
A34: 28 | B34: 28 | C34: B22 | D34: 2 | E34: N | G34: RED DRAGON | H34: Obed Gutierrez | J34: 2nd
A35: 29 | B35: 29 | C35: C1 | D35: 1 | E35: N | G35: CT | H35: Obed Gutierrez | J35: 2nd
A36: 30 | B36: 30 | C36: C2 | D36: 2 | E36: N | G36: DT | H36: Obed Gutierrez | J36: 3rd
A37: 31 | B37: 31 | C37: C2 | D37: 3 | E37: N | G37: DT | H37: Obed Gutierrez
A38: 32 | B38: 32 | C38: C4 | D38: 1 | E38: N | G38: CTPK | H38: Obed Gutierrez | J38: 1st | K38: reserve Best of variety male cat. C
A39: 33 | B39: 33 | C39: C4 | D39: 2 | E39: N | G39: CTPK | H39: Obed Gutierrez | J39: 2nd
A40: 34 | B40: 34 | C40: C4 | D40: 3 | E40: N | G40: CTPK | H40: Obed Gutierrez | J40: 3rd
A41: 35 | B41: 35 | C41: C2 | D41: 4 | E41: N | G41: DT | H41: Obed Gutierrez | J41: 2nd
A42: 36 | B42: 36 | C42: C7 | D42: 2 | E42: N | G42: DT | H42: Obed Gutierrez | J42: 1st
A43: 37 | B43: 37 | C43: C7 | D43: 3 | E43: N | G43: DT | H43: Obed Gutierrez | J43: 3rd
...

Sheet AuctionCheatSheet
A1: =ShowContinuousLog!A1 -> "Betta Expo Internacional Primavera" "abril 2022"
A2: Auction Log
A3: Con. No | C3: Class No | D3: Entry No | E3: Auction? | F3: Minimum Bid | G3: Exhibitor Description | H3: Exhibitor Name | I3: Judging Comments/Class Changes | J3: Place | K3: Best Of? | L3: Sell Price | M3: Bidder No | O3: This sheet can be used to make the "Live Auction Log". Simply "SORT" (do not filter!) the ShowContinuousLog sheet from "ZtoA" so that all the "Y" auction fish come up first. Then, this page will autopopulate. Then you can Copy columns from here and paste directly into the Live Auction Log
A4: =ShowContinuousLog!A7 -> 1 | B4: =ShowContinuousLog!B7 -> 1 | C4: =ShowContinuousLog!C7 -> A1 | D4: =ShowContinuousLog!D7 -> 2 | E4: =ShowContinuousLog!E7 -> N | F4: =ShowContinuousLog!F7 -> 0 | G4: =ShowContinuousLog!G7 -> RED | H4: =ShowContinuousLog!H7 -> Obed Gutierrez | J4: =ShowContinuousLog!J7 -> 2nd | K4: =ShowContinuousLog!K7 -> 0
A5: =ShowContinuousLog!A8 -> 2 | B5: =ShowContinuousLog!B8 -> 2 | C5: =ShowContinuousLog!C8 -> A1 | D5: =ShowContinuousLog!D8 -> 3 | E5: =ShowContinuousLog!E8 -> N | F5: =ShowContinuousLog!F8 -> 0 | G5: =ShowContinuousLog!G8 -> RED | H5: =ShowContinuousLog!H8 -> Obed Gutierrez | J5: =ShowContinuousLog!J8 -> 1st | K5: =ShowContinuousLog!K8 -> Best of Variety Male Cat. A and Reserve Best of Show
A6: =ShowContinuousLog!A9 -> 3 | B6: =ShowContinuousLog!B9 -> 3 | C6: =ShowContinuousLog!C9 -> A3 | D6: =ShowContinuousLog!D9 -> 1 | E6: =ShowContinuousLog!E9 -> N | F6: =ShowContinuousLog!F9 -> 0 | G6: =ShowContinuousLog!G9 -> CELLOPHANE | H6: =ShowContinuousLog!H9 -> Obed Gutierrez | J6: =ShowContinuousLog!J9 -> 1st | K6: =ShowContinuousLog!K9 -> 0
A7: =ShowContinuousLog!A10 -> 4 | B7: =ShowContinuousLog!B10 -> 4 | C7: =ShowContinuousLog!C10 -> A10 | D7: =ShowContinuousLog!D10 -> 4 | E7: =ShowContinuousLog!E10 -> N | F7: =ShowContinuousLog!F10 -> 0 | G7: =ShowContinuousLog!G10 -> MULTICOLOR | H7: =ShowContinuousLog!H10 -> Obed Gutierrez | J7: =ShowContinuousLog!J10 -> 1st | K7: =ShowContinuousLog!K10 -> 0
A8: =ShowContinuousLog!A11 -> 5 | B8: =ShowContinuousLog!B11 -> 5 | C8: =ShowContinuousLog!C11 -> B21 | D8: =ShowContinuousLog!D11 -> 1 | E8: =ShowContinuousLog!E11 -> N | F8: =ShowContinuousLog!F11 -> 0 | G8: =ShowContinuousLog!G11 -> BLACK DRAGON | H8: =ShowContinuousLog!H11 -> Obed Gutierrez | J8: =ShowContinuousLog!J11 -> 1st | K8: =ShowContinuousLog!K11 -> Best of Variety Female Cat B
A9: =ShowContinuousLog!A12 -> 6 | B9: =ShowContinuousLog!B12 -> 6 | C9: =ShowContinuousLog!C12 -> A24 | D9: =ShowContinuousLog!D12 -> 2 | E9: =ShowContinuousLog!E12 -> N | F9: =ShowContinuousLog!F12 -> 0 | G9: =ShowContinuousLog!G12 -> RED | H9: =ShowContinuousLog!H12 -> Obed Gutierrez | J9: =ShowContinuousLog!J12 -> 1st | K9: =ShowContinuousLog!K12 -> Reserve best of Variety Femelae Cat A.
A10: =ShowContinuousLog!A13 -> 7 | B10: =ShowContinuousLog!B13 -> 7 | C10: =ShowContinuousLog!C13 -> B1 | D10: =ShowContinuousLog!D13 -> 2 | E10: =ShowContinuousLog!E13 -> N | F10: =ShowContinuousLog!F13 -> 0 | G10: =ShowContinuousLog!G13 -> RED | H10: =ShowContinuousLog!H13 -> Obed Gutierrez | J10: =ShowContinuousLog!J13 -> 0 | K10: =ShowContinuousLog!K13 -> 0
A11: =ShowContinuousLog!A14 -> 8 | B11: =ShowContinuousLog!B14 -> 8 | C11: =ShowContinuousLog!C14 -> B1 | D11: =ShowContinuousLog!D14 -> 3 | E11: =ShowContinuousLog!E14 -> N | F11: =ShowContinuousLog!F14 -> 0 | G11: =ShowContinuousLog!G14 -> RED | H11: =ShowContinuousLog!H14 -> Obed Gutierrez | J11: =ShowContinuousLog!J14 -> 1st | K11: =ShowContinuousLog!K14 -> reserve best of variety Male cat B
A12: =ShowContinuousLog!A15 -> 9 | B12: =ShowContinuousLog!B15 -> 9 | C12: =ShowContinuousLog!C15 -> B1 | D12: =ShowContinuousLog!D15 -> 4 | E12: =ShowContinuousLog!E15 -> N | F12: =ShowContinuousLog!F15 -> 0 | G12: =ShowContinuousLog!G15 -> RED | H12: =ShowContinuousLog!H15 -> Obed Gutierrez | J12: =ShowContinuousLog!J15 -> 2nd | K12: =ShowContinuousLog!K15 -> 0
A13: =ShowContinuousLog!A16 -> 10 | B13: =ShowContinuousLog!B16 -> 10 | C13: =ShowContinuousLog!C16 -> B3 | D13: =ShowContinuousLog!D16 -> 4 | E13: =ShowContinuousLog!E16 -> N | F13: =ShowContinuousLog!F16 -> 0 | G13: =ShowContinuousLog!G16 -> CELLOPHANE | H13: =ShowContinuousLog!H16 -> Obed Gutierrez | J13: =ShowContinuousLog!J16 -> 2nd | K13: =ShowContinuousLog!K16 -> 0
A14: =ShowContinuousLog!A17 -> 11 | B14: =ShowContinuousLog!B17 -> 11 | C14: =ShowContinuousLog!C17 -> B3 | D14: =ShowContinuousLog!D17 -> 5 | E14: =ShowContinuousLog!E17 -> N | F14: =ShowContinuousLog!F17 -> 0 | G14: =ShowContinuousLog!G17 -> CELLOPHANE | H14: =ShowContinuousLog!H17 -> Obed Gutierrez | J14: =ShowContinuousLog!J17 -> 0 | K14: =ShowContinuousLog!K17 -> 0
A15: =ShowContinuousLog!A18 -> 12 | B15: =ShowContinuousLog!B18 -> 12 | C15: =ShowContinuousLog!C18 -> B3 | D15: =ShowContinuousLog!D18 -> 6 | E15: =ShowContinuousLog!E18 -> N | F15: =ShowContinuousLog!F18 -> 0 | G15: =ShowContinuousLog!G18 -> CELLOPHANE | H15: =ShowContinuousLog!H18 -> Obed Gutierrez | J15: =ShowContinuousLog!J18 -> 1st | K15: =ShowContinuousLog!K18 -> 0
... A136: =ShowContinuousLog!A139 -> 133 | B136: =ShowContinuousLog!B139 -> 50 | C136: =ShowContinuousLog!C139 -> C1 | D136: =ShowContinuousLog!D139 -> 3 | E136: =ShowContinuousLog!E139 -> N | F136: =ShowContinuousLog!F139 -> 0 | G136: =ShowContinuousLog!G139 -> macho plakat multi mayormente azul | H136: =ShowContinuousLog!H139 -> Ivan Roldan | J136: =ShowContinuousLog!J139 -> 1st | K136: =ShowContinuousLog!K139 -> 0
A137: =ShowContinuousLog!A140 -> 134 | B137: =ShowContinuousLog!B140 -> 1 | C137: =ShowContinuousLog!C140 -> C9 | D137: =ShowContinuousLog!D140 -> 1 | E137: N | F137: 0 | G137: =ShowContinuousLog!G140 -> hembra dumbo salamander 1 | H137: =ShowContinuousLog!H140 -> David Rivera | J137: =ShowContinuousLog!J140 -> 1st | K137: =ShowContinuousLog!K140 -> 0
A138: =ShowContinuousLog!A141 -> 135 | B138: =ShowContinuousLog!B141 -> 2 | C138: =ShowContinuousLog!C141 -> C9 | D138: =ShowContinuousLog!D141 -> 2 | E138: N | F138: 0 | G138: =ShowContinuousLog!G141 -> hembra dumbo salamander 2 | H138: =ShowContinuousLog!H141 -> David Rivera | J138: =ShowContinuousLog!J141 -> 2nd | K138: =ShowContinuousLog!K141 -> 0
A139: =ShowContinuousLog!A142 -> 136 | B139: =ShowContinuousLog!B142 -> 3 | C139: =ShowContinuousLog!C142 -> C10 | D139: =ShowContinuousLog!D142 -> 1 | E139: N | F139: 0 | G139: =ShowContinuousLog!G142 -> hembra crowtail celofan | H139: =ShowContinuousLog!H142 -> David Rivera | J139: =ShowContinuousLog!J142 -> 3rd | K139: =ShowContinuousLog!K142 -> 0
A140: =ShowContinuousLog!A143 -> 137 | B140: =ShowContinuousLog!B143 -> 4 | C140: =ShowContinuousLog!C143 -> A18 | D140: =ShowContinuousLog!D143 -> 2 | E140: N | F140: 0 | G140: =ShowContinuousLog!G143 -> hembra hm verde | H140: =ShowContinuousLog!H143 -> David Rivera | J140: =ShowContinuousLog!J143 -> 2nd | K140: =ShowContinuousLog!K143 -> 0
A141: =ShowContinuousLog!A144 -> 138 | B141: =ShowContinuousLog!B144 -> 5 | C141: =ShowContinuousLog!C144 -> B20 | D141: =ShowContinuousLog!D144 -> 1 | E141: N | F141: 0 | G141: =ShowContinuousLog!G144 -> hembra bicolor blanca y roja | H141: =ShowContinuousLog!H144 -> David Rivera | J141: =ShowContinuousLog!J144 -> 1st | K141: =ShowContinuousLog!K144 -> 0
A142: =ShowContinuousLog!A145 -> 139 | B142: =ShowContinuousLog!B145 -> 6 | C142: =ShowContinuousLog!C145 -> C2 | D142: =ShowContinuousLog!D145 -> 5 | E142: N | F142: 0 | G142: =ShowContinuousLog!G145 -> macho hm cola doble marmol azul y blanco | H142: =ShowContinuousLog!H145 -> David Rivera | J142: =ShowContinuousLog!J145 -> 1st | K142: =ShowContinuousLog!K145 -> best of variety male cat C.
A143: =ShowContinuousLog!A146 -> 140 | B143: =ShowContinuousLog!B146 -> 7 | C143: =ShowContinuousLog!C146 -> B2 | D143: =ShowContinuousLog!D146 -> 4 | E143: N | F143: 0 | G143: =ShowContinuousLog!G146 -> macho plakat azul | H143: =ShowContinuousLog!H146 -> David Rivera | J143: =ShowContinuousLog!J146 -> 3rd | K143: =ShowContinuousLog!K146 -> 0
A144: =ShowContinuousLog!A147 -> 141 | B144: =ShowContinuousLog!B147 -> 8 | C144: =ShowContinuousLog!C147 -> B3 | D144: =ShowContinuousLog!D147 -> 3 | E144: N | F144: 0 | G144: =ShowContinuousLog!G147 -> macho plakat amarillo | H144: =ShowContinuousLog!H147 -> David Rivera | J144: =ShowContinuousLog!J147 -> 0 | K144: =ShowContinuousLog!K147 -> 0
A145: =ShowContinuousLog!A148 -> 142 | B145: =ShowContinuousLog!B148 -> 9 | C145: =ShowContinuousLog!C148 -> A9 | D145: =ShowContinuousLog!D148 -> 2 | E145: N | F145: 0 | G145: =ShowContinuousLog!G148 -> hm negro | H145: =ShowContinuousLog!H148 -> David Rivera | J145: =ShowContinuousLog!J148 -> 1st | K145: =ShowContinuousLog!K148 -> 0
A146: =ShowContinuousLog!A149 -> 143 | B146: =ShowContinuousLog!B149 -> 10 | C146: =ShowContinuousLog!C149 -> CC4 | D146: =ShowContinuousLog!D149 -> 1 | E146: N | F146: 0 | G146: =ShowContinuousLog!G149 -> hembra hm tricolor blanca, azul y manchas | H146: =ShowContinuousLog!H149 -> David Rivera | J146: =ShowContinuousLog!J149 -> 3rd | K146: =ShowContinuousLog!K149 -> 0
A147: =ShowContinuousLog!A150 -> 144 | B147: =ShowContinuousLog!B150 -> 11 | C147: =ShowContinuousLog!C150 -> CC7 | D147: =ShowContinuousLog!D150 -> 1 | E147: N | F147: 0 | G147: =ShowContinuousLog!G150 -> macho crowtail rojo | H147: =ShowContinuousLog!H150 -> David Rivera | J147: =ShowContinuousLog!J150 -> 1st | K147: =ShowContinuousLog!K150 -> RBOS
A148: =ShowContinuousLog!A151 -> 145 | B148: =ShowContinuousLog!B151 -> 12 | C148: =ShowContinuousLog!C151 -> CC4 | D148: =ShowContinuousLog!D151 -> 2 | E148: N | F148: 0 | G148: =ShowContinuousLog!G151 -> plakat multicolor negro, blanco y azul | H148: =ShowContinuousLog!H151 -> David Rivera | J148: =ShowContinuousLog!J151 -> 1st | K148: =ShowContinuousLog!K151 -> 0
A149: =ShowContinuousLog!A152 -> 146 | B149: =ShowContinuousLog!B152 -> 13 | C149: =ShowContinuousLog!C152 -> CC5 | D149: =ShowContinuousLog!D152 -> 2 | E149: N | F149: 0 | G149: =ShowContinuousLog!G153 -> plakat multicolor | H149: =ShowContinuousLog!H152 -> David Rivera | J149: =ShowContinuousLog!J152 -> 1st | K149: =ShowContinuousLog!K152 -> BOS
A150: =ShowContinuousLog!A153 -> 147 | B150: =ShowContinuousLog!B153 -> 14 | C150: =ShowContinuousLog!C153 -> B7 | D150: =ShowContinuousLog!D153 -> 1 | E150: N | F150: 0 | G150: =ShowContinuousLog!G154 -> plakat bicolor rojo y blanco | H150: =ShowContinuousLog!H153 -> David Rivera | J150: =ShowContinuousLog!J153 -> 0 | K150: =ShowContinuousLog!K153 -> 0
A151: =ShowContinuousLog!A154 -> 148 | B151: =ShowContinuousLog!B154 -> 15 | C151: =ShowContinuousLog!C154 -> CC4 | D151: =ShowContinuousLog!D154 -> 3 | E151: N | F151: 0 | G151: =ShowContinuousLog!#REF! -> #REF! | H151: =ShowContinuousLog!H154 -> David Rivera | J151: =ShowContinuousLog!J154 -> 2nd | K151: =ShowContinuousLog!K154 -> 0
A152: =ShowContinuousLog!A155 -> 149 | B152: =ShowContinuousLog!B155 -> 1 | C152: =ShowContinuousLog!C155 -> B1 | D152: =ShowContinuousLog!D155 -> 12 | E152: =ShowContinuousLog!E155 -> N | F152: =ShowContinuousLog!F155 -> 0 | G152: =ShowContinuousLog!G155 -> Show plakat STM Red | H152: =ShowContinuousLog!H155 -> Dodi Sunjaya | J152: =ShowContinuousLog!J155 -> 0 | K152: =ShowContinuousLog!K155 -> 0
A153: =ShowContinuousLog!A156 -> 150 | B153: =ShowContinuousLog!B156 -> 2 | C153: =ShowContinuousLog!C156 -> B1 | D153: =ShowContinuousLog!D156 -> 13 | E153: =ShowContinuousLog!E156 -> N | F153: =ShowContinuousLog!F156 -> 0 | G153: =ShowContinuousLog!G156 -> Show plakat STM Red | H153: =ShowContinuousLog!H156 -> Dodi Sunjaya | J153: =ShowContinuousLog!J156 -> 0 | K153: =ShowContinuousLog!K156 -> 0
A154: =ShowContinuousLog!A157 -> 151 | B154: =ShowContinuousLog!B157 -> 3 | C154: =ShowContinuousLog!C157 -> B5 | D154: =ShowContinuousLog!D157 -> 1 | E154: =ShowContinuousLog!E157 -> N | F154: =ShowContinuousLog!F157 -> 0 | G154: =ShowContinuousLog!G157 -> Show plakat STM Cooper | H154: =ShowContinuousLog!H157 -> Dodi Sunjaya | J154: =ShowContinuousLog!J157 -> 0 | K154: =ShowContinuousLog!K157 -> 0
A155: =ShowContinuousLog!A158 -> 152 | B155: =ShowContinuousLog!B158 -> 4 | C155: =ShowContinuousLog!C158 -> B7 | D155: =ShowContinuousLog!D158 -> 5 | E155: =ShowContinuousLog!E158 -> N | F155: =ShowContinuousLog!F158 -> 0 | G155: =ShowContinuousLog!G158 -> Show plakat STM Multi | H155: =ShowContinuousLog!H158 -> Dodi Sunjaya | J155: =ShowContinuousLog!J158 -> 0 | K155: =ShowContinuousLog!K158 -> 0
A156: =ShowContinuousLog!A159 -> 153 | B156: =ShowContinuousLog!B159 -> 5 | C156: =ShowContinuousLog!C159 -> B9 | D156: =ShowContinuousLog!D159 -> 3 | E156: =ShowContinuousLog!E159 -> N | F156: =ShowContinuousLog!F159 -> 0 | G156: =ShowContinuousLog!G159 -> Show Plakat STM Bicolor | H156: =ShowContinuousLog!H159 -> Dodi Sunjaya | J156: =ShowContinuousLog!J159 -> 0 | K156: =ShowContinuousLog!K159 -> 0
A157: =ShowContinuousLog!A160 -> 154 | B157: =ShowContinuousLog!B160 -> 6 | C157: =ShowContinuousLog!C160 -> B3 | D157: =ShowContinuousLog!D160 -> 10 | E157: =ShowContinuousLog!E160 -> N | F157: =ShowContinuousLog!F160 -> 0 | G157: =ShowContinuousLog!G160 -> Show Plakat STM yellow | H157: =ShowContinuousLog!H160 -> Dodi Sunjaya | J157: =ShowContinuousLog!J160 -> 0 | K157: =ShowContinuousLog!K160 -> 0
A158: =ShowContinuousLog!A161 -> 155 | B158: =ShowContinuousLog!B161 -> 7 | C158: =ShowContinuousLog!C161 -> B4 | D158: =ShowContinuousLog!D161 -> 5 | E158: =ShowContinuousLog!E161 -> N | F158: =ShowContinuousLog!F161 -> 0 | G158: =ShowContinuousLog!G161 -> Show Plakat STM Marble | H158: =ShowContinuousLog!H161 -> Dodi Sunjaya | J158: =ShowContinuousLog!J161 -> 0 | K158: =ShowContinuousLog!K161 -> 0
A159: =ShowContinuousLog!A162 -> 156 | B159: =ShowContinuousLog!B162 -> 8 | C159: =ShowContinuousLog!C162 -> B15 | D159: =ShowContinuousLog!D162 -> 2 | E159: =ShowContinuousLog!E162 -> N | F159: =ShowContinuousLog!F162 -> 0 | G159: =ShowContinuousLog!G162 -> STF Blue | H159: =ShowContinuousLog!H162 -> Dodi Sunjaya | J159: =ShowContinuousLog!J162 -> 0 | K159: =ShowContinuousLog!K162 -> 0
A160: =ShowContinuousLog!A163 -> 157 | B160: =ShowContinuousLog!B163 -> 9 | C160: =ShowContinuousLog!C163 -> B19 | D160: =ShowContinuousLog!D163 -> 1 | E160: =ShowContinuousLog!E163 -> N | F160: =ShowContinuousLog!F163 -> 0 | G160: =ShowContinuousLog!G163 -> STF Multi color | H160: =ShowContinuousLog!H163 -> Dodi Sunjaya | J160: =ShowContinuousLog!J163 -> 0 | K160: =ShowContinuousLog!K163 -> 0
...

Sheet Class Changes
A1: =ShowContinuousLog!A1 -> "Betta Expo Internacional Primavera" "abril 2022" | E1: Class Changes
A2: Consecutive # | B2: Move from | C2: Move to | E2: Consecutive # | F2: Move from | G2: Move to
A3: 5 | B3: B14 | C3: B21 | E3: 98 | F3: B1 | G3: B14
A4: 18 | B4: B7 | C4: B6 | E4: 99 | F4: B14 | G4: B17
A5: 40 | B5: CH | C5: B9 | E5: 101 | F5: B18 | G5: B1
A6: 48 | B6: A12 | C6: A11 | E6: 106 | F6: B23 | G6: B19
A7: 49 | B7: A17 | C7: A16 | E7: 116 | F7: B18 | G7: C6
A8: 50 | B8: A17 | C8: A16 | E8: 117 | F8: B18 | G8: B6
A9: 64 | B9: B3 | C9: B6 | E9: 118 | F9: A10 | G9: C6
A10: 65 | B10: B4 | C10: B3 | E10: 119 | F10: B11 | G10: B19
A11: 66 | B11: B6 | C11: B17 | E11: 120 | F11: B11 | G11: A9
A12: 67 | B12: B17 | C12: B6 | E12: 122 | F12: B18 | G12: B9
A13: 70 | B13: A21 | C13: A24 | E13: 124 | F13: B14 | G13: B19
A14: 71 | B14: A21 | C14: A24 | E14: 125 | F14: B20 | G14: B3
... A31: 97 | B31: B23 | C31: B11 | E31: 146 | F31: B3 | G31: CC5
E32: 147 | F32: B5 | G32: B7
E33: 148 | F33: B5 | G33: CC4
E34: 162 | F34: B6 | G34: B2
E35: 163 | F35: B11 | G35: B14
E36: 167 | F36: JB3 | G36: B9

Sheet AuctionOnlyFishLog
A1: =ShowContinuousLog!A1 -> "Betta Expo Internacional Primavera" "abril 2022"
A3: AO Continuous No | B3: Breeder's Fish # | C3: Auction | D3: Minimum Bid | E3: Breeder Labels & Remarks | F3: Exhibitor Name | G3: Selling Price | H3: Bidder No | I3: Selling Price | J3: Bidder No | L3: This form is for Auction Only Fish. They are supposed to be kept separate from the main show log, and can easily be copied onto the live auction log. Just don't forget about this page once you decide to use it.
A5: 44 | B5: 1 | C5: Y | D5: 10 | E5: BLUE STM #7 | F5: Siegbert Illing
A6: 45 | B6: 2 | C6: Y | D6: 10 | E6: TURQUOISE STM #941 | F6: Siegbert Illing | G6: 10 | J6: Molly
A7: 46 | B7: 3 | C7: Y | D7: 10 | E7: TURQUOISE STM #105 | F7: Siegbert Illing | G7: 10 | J7: Salvador Alemany
A8: 47 | B8: 4 | C8: Y | D8: 10 | E8: TURQUOISE STM #97 | F8: Siegbert Illing | G8: 10 | J8: Ismael Rodriguez
A9: 48 | B9: 5 | C9: Y | D9: 10 | E9: BF STM #920 | F9: Siegbert Illing | G9: 10 | J9: Ismael Rodriguez
A10: 49 | B10: 6 | C10: Y | D10: 10 | E10: BLUE STF #920 | F10: Siegbert Illing | G10: 10 | J10: Ivan Roldan
A11: 50 | B11: 7 | C11: Y | D11: 10 | E11: BLUE STF #2 | F11: Siegbert Illing | G11: 10 | J11: Ismael Rodriguez
A12: 51 | B12: 8 | C12: Y | D12: 10 | E12: STEEL BLUE STF #972 | F12: Siegbert Illing | G12: 11 | J12: Ivan Roldan
A13: 52 | B13: 9 | C13: Y | D13: 10 | E13: TURQUOISE STF #948 | F13: Siegbert Illing | G13: 10 | J13: Molly
A14: 53 | B14: 10 | C14: Y | D14: 10 | E14: TURQUOISE STF #954 | F14: Siegbert Illing
A15: 54 | B15: 11 | C15: Y | D15: 10 | E15: TURQUOISE STF #942 | F15: Siegbert Illing | G15: 10 | J15: Salvador Alemany
A16: 55 | B16: 12 | C16: Y | D16: 10 | E16: PINEAPPLE PK MALE #889 | F16: Siegbert Illing
A17: 56 | B17: 13 | C17: Y | D17: 10 | E17: PINEAPPLE PK MALE #895 | F17: Siegbert Illing. ( was DQ)
A18: 57 | B18: 14 | C18: Y | D18: 6 | E18: TRADITIONAL RED PK MALE #51 | F18: Siegbert Illing
A19: 58 | B19: 15 | C19: Y | D19: 6 | E19: TRADITIONAL RED PK MALE #55 | F19: Siegbert Illing
A20: 59 | B20: 16 | C20: Y | D20: 10 | E20: DTM #977 | F20: Siegbert Illing | G20: 10 | J20: Ivan Roldan
A21: 60 | B21: 17 | C21: Y | D21: 6 | E21: DTF #40 | F21: Siegbert Illing | G21: 6 | J21: Salvador Alemany
A22: 61 | B22: 18 | C22: Y | D22: 6 | E22: ROSETAIL 31 | F22: Siegbert Illing
A23: 62 | B23: 19 | C23: Y | D23: 12P | E23: METALLIC GREEN STM #113 PAIR | F23: Siegbert Illing
A24: 63 | B24: 20 | C24: Y | D24: 12P | E24: METALLIC GREEN STF #120 PAIR | F24: Siegbert Illing | G24: 12 | J24: Ismael Rodriguez
A25: 64 | B25: 1 | C25: Y | D25: 15 | E25: White Show PKM | F25: Jaqueline Gray
A26: 65 | B26: 2 | C26: Y | D26: 15 | E26: Pastel Blue and White Show PKM | F26: Jaqueline Gray | G26: 15 | J26: Ivan Roldan
A27: 66 | B27: 3 | C27: Y | D27: 15 | E27: Pastel Green Grizzle Show PKM | F27: Jaqueline Gray
A28: 67 | B28: 4 | C28: Y | D28: 10 | E28: Pastel Blue Show PKF | F28: Jaqueline Gray | G28: 10 | J28: Molly
A29: 68 | B29: 5 | C29: Y | D29: 10 | E29: White Show PKF | F29: Jaqueline Gray
A30: 69 | B30: 6 | C30: Y | D30: 10 | E30: White Show PKF | F30: Jaqueline Gray | G30: 10 | J30: Ivan Roldan
A31: 70 | B31: 7 | C31: Y | D31: 10 | E31: Black Copper Marble HM STF | F31: Jaqueline Gray | G31: 10 | J31: Ivan Roldan
A32: 71 | B32: 8 | C32: Y | D32: 10 | E32: Red Copper Marble HM STF | F32: Jaqueline Gray | G32: 10 | J32: Ivan Roldan
A33: 72 | B33: 9 | C33: Y | D33: 10 | E33: Red Copper Marble HM STF | F33: Jaqueline Gray | G33: 10 | J33: Ivan Roldan
A34: 73 | B34: 10 | C34: Y | D34: 10 | E34: Black/Platinum Dragon HM STF | F34: Jaqueline Gray | G34: 10 | J34: Ismael Rodriguez

Sheet LiveAuctionLog
A1: =ShowContinuousLog!A1 -> "Betta Expo Internacional Primavera" "abril 2022"
A3: Continuous No | B3: Class No | C3: Auction Y/ | E3: Breeder Labels & Remarks | F3: Exhibitor Name | I3: Selling Price | J3: Bidder No
D4: Min Bid | G4: Place | H4: BOV/BOS
A90: 500 | C90: Y | D90: 5 | E90: CT: Multicolor dark red fin male | F90: Christina Aylward | I90: NS
A91: 501 | C91: Y | D91: 5 | E91: CT: Multicolor dark red fin female | F91: Christina Aylward | I91: NS
A92: 502 | C92: Y | D92: 5 | E92: CT: Black Body, red and clear fin female | F92: Christina Aylward | I92: NS
A93: 503 | C93: Y | D93: 5 | E93: CT: Bi color red fin female | F93: Christina Aylward | I93: NS
A94: 504 | C94: Y | D94: 5 | E94: CT: Multicolor female | F94: Christina Aylward | I94: 5 | J94: 7
A95: 505 | C95: Y | D95: 5 | E95: CT: Bi Color dark blue iridescent female | F95: Christina Aylward | I95: NS
A96: 506 | C96: Y | D96: 5 | E96: CT: Black Body red finned female | F96: Christina Aylward | I96: NS
A97: 507 | C97: Y | D97: 5 | E97: CT: Bi color blue iridescent female | F97: Christina Aylward | I97: NS
A98: 508 | C98: Y | D98: 5 | E98: CT: Mutlicolor with blue iridescent female | F98: Christina Aylward | I98: 5 | J98: 19
A99: 509 | E99: DOA | F99: Rachel Waugh
A100: 510 | E100: DOA | F100: Rachel Waugh
A101: 511 | C101: Y | D101: 5 | E101: Male marble pk | F101: Jen Cannon | I101: NS
A102: 512 | C102: Y | D102: 15 | E102: Betta Unimaculata Female | F102: Ivey Redd | I102: NS
A103: 513 | C103: Y | D103: 5 | E103: HMPK Male | F103: Ivey Redd | I103: 1 | J103: 10
A104: 514 | C104: Y | D104: 10 | E104: Dumbo HM Female (won 2nd May ABC Show) | F104: Ivey Redd | I104: NS
A105: 515 | C105: Y | D105: 5 | E105: HMPK Female | F105: Ivey Redd | I105: NS
A106: 516 | C106: Y | D106: 5 | E106: HMPK Female | F106: Ivey Redd | I106: NS
A107: 517 | C107: Y | D107: 5 | E107: Cellophane HMPK Male | F107: Ivey Redd | I107: NS
A108: 518 | C108: Y | D108: 5 | E108: HMPK Female | F108: Ivey Redd | I108: NS
A109: 519 | C109: Y | D109: 7 | E109: Cellophane Male | F109: Ivey Redd | I109: NS
A110: 520 | C110: Y | D110: 5 | E110: Female | F110: Ivey Redd | I110: NS
A111: 521 | C111: Y | D111: 5 | E111: Female | F111: Ivey Redd | I111: NS
A112: 522 | C112: Y | D112: 10 | E112: HM Male | F112: Ivey Redd | I112: NS
A113: 523 | C113: Y | D113: 5 | E113: Red Plakat Female | F113: Heidi and Andrew Burkle | I113: 25 | J113: 19
A114: 524 | C114: Y | D114: 5 | E114: Red Plakat Female | F114: Heidi and Andrew Burkle | I114: 5 | J114: 7
A115: 525 | C115: Y | D115: 5 | E115: Red Plakat Female | F115: Heidi and Andrew Burkle | I115: 5 | J115: 7
A116: 526 | C116: Y | D116: 5 | E116: Red Plakat Female | F116: Heidi and Andrew Burkle | I116: 5 | J116: 10
A117: 527 | C117: Y | D117: 10P | E117: Betta Balunga Pair | F117: Heidi and Andrew Burkle | I117: NS
A118: 528 | C118: Y | D118: 10P | E118: Betta Balunga Pair | F118: Heidi and Andrew Burkle | I118: NS
A119: 529 | C119: Y | D119: 10P | E119: Betta Albimarginata Pair | F119: Heidi and Andrew Burkle | I119: 10 | J119: 19
A120: 530 | C120: Y | D120: 10P | E120: Betta Albimarginata Pair | F120: Heidi and Andrew Burkle | I120: 0 | J120: 19

Sheet  Financials
A3: Breeder Name | B3: IBC Member? | C3: Notes & Requests | D3: Phone | E3: Address | F3: Email Address | G3: Total Paid Monies | H3: Method of Payment | I3: # Single Fish Entries | J3: # Art Entries | K3: # Fish Pair Entries | L3: Other Cash Table Items | M3: Return Postage Paid | N3: # Entries for Auction | O3: # Auction Only Fish | P3: Total $ Sold Entries | Q3: Total $ Sold Auction Only Fish | R3: Total $ Breeder Cup | S3: Sold Cash Table | T3: Club Cost Return Postage | U3: Tracking Number | V3: Entry Fees Owed | W3: Total Entries | X3: Total Fish Entered | Y3: Amount Due Exhibitor | AA3: ABC Club Sales Split Total
V5: =IF(B5="Y",(I5*Lists!$F$3+K5*Lists!$F$4+J5*Lists!$F$3),(I5*Lists!$F$5+K5*Lists!$F$6+J5*Lists!$F$5)) -> 0 | W5: =I5+K5 -> 0 | X5: =I5+K5*2 -> 0 | Y5: =G5-V5-T5+P5*Lists!$F$9+Q5*Lists!$F$10+S5*Lists!$F$11+R5*Lists!$F$8 -> 0 | AA5: =P5*Lists!$G$9+Q5*Lists!$G$10+R5*Lists!$G$8+S5*Lists!$G$11 -> 0 | AC5: Number of Exhibitors = | AD5: =A42 -> 0 | AF5: Account Totals Prior To Show:
V6: =IF(B6="Y",(I6*Lists!$F$3+K6*Lists!$F$4+J6*Lists!$F$3),(I6*Lists!$F$5+K6*Lists!$F$6+J6*Lists!$F$5)) -> 0 | W6: =I6+K6 -> 0 | X6: =I6+K6*2 -> 0 | Y6: =G6-V6-T6+P6*Lists!$F$9+Q6*Lists!$F$10+S6*Lists!$F$11+R6*Lists!$F$8 -> 0 | AA6: =P6*Lists!$G$9+Q6*Lists!$G$10+R6*Lists!$G$8+S6*Lists!$G$11 -> 0 | AC6: Number of Show Entries = | AD6: =W42 -> 0 | AF6: Bank
V7: =IF(B7="Y",(I7*Lists!$F$3+K7*Lists!$F$4+J7*Lists!$F$3),(I7*Lists!$F$5+K7*Lists!$F$6+J7*Lists!$F$5)) -> 0 | W7: =I7+K7 -> 0 | X7: =I7+K7*2 -> 0 | Y7: =G7-V7-T7+P7*Lists!$F$9+Q7*Lists!$F$10+S7*Lists!$F$11+R7*Lists!$F$8 -> 0 | AA7: =P7*Lists!$G$9+Q7*Lists!$G$10+R7*Lists!$G$8+S7*Lists!$G$11 -> 0 | AC7: Number of Show Fish = | AD7: =X42 -> 0 | AF7: Cash Drawer
V8: =IF(B8="Y",(I8*Lists!$F$3+K8*Lists!$F$4+J8*Lists!$F$3),(I8*Lists!$F$5+K8*Lists!$F$6+J8*Lists!$F$5)) -> 0 | W8: =I8+K8 -> 0 | X8: =I8+K8*2 -> 0 | Y8: =G8-V8-T8+P8*Lists!$F$9+Q8*Lists!$F$10+S8*Lists!$F$11+R8*Lists!$F$8 -> 0 | AA8: =P8*Lists!$G$9+Q8*Lists!$G$10+R8*Lists!$G$8+S8*Lists!$G$11 -> 0 | AF8: PayPal
V9: =IF(B9="Y",(I9*Lists!$F$3+K9*Lists!$F$4+J9*Lists!$F$3),(I9*Lists!$F$5+K9*Lists!$F$6+J9*Lists!$F$5)) -> 0 | W9: =I9+K9 -> 0 | X9: =I9+K9*2 -> 0 | Y9: =G9-V9-T9+P9*Lists!$F$9+Q9*Lists!$F$10+S9*Lists!$F$11+R9*Lists!$F$8 -> 0 | AA9: =P9*Lists!$G$9+Q9*Lists!$G$10+R9*Lists!$G$8+S9*Lists!$G$11 -> 0 | AC9: Number of Show Fish in Auction = | AD9: =N42 -> 0 | AG9: =SUM(AG6:AG8) -> 0
V10: =IF(B10="Y",(I10*Lists!$F$3+K10*Lists!$F$4+J10*Lists!$F$3),(I10*Lists!$F$5+K10*Lists!$F$6+J10*Lists!$F$5)) -> 0 | W10: =I10+K10 -> 0 | X10: =I10+K10*2 -> 0 | Y10: =G10-V10-T10+P10*Lists!$F$9+Q10*Lists!$F$10+S10*Lists!$F$11+R10*Lists!$F$8 -> 0 | AA10: =P10*Lists!$G$9+Q10*Lists!$G$10+R10*Lists!$G$8+S10*Lists!$G$11 -> 0 | AC10: Number of Auction Only Fish = | AD10: =O42 -> 0
V11: =IF(B11="Y",(I11*Lists!$F$3+K11*Lists!$F$4+J11*Lists!$F$3),(I11*Lists!$F$5+K11*Lists!$F$6+J11*Lists!$F$5)) -> 0 | W11: =I11+K11 -> 0 | X11: =I11+K11*2 -> 0 | Y11: =G11-V11-T11+P11*Lists!$F$9+Q11*Lists!$F$10+S11*Lists!$F$11+R11*Lists!$F$8 -> 0 | AA11: =P11*Lists!$G$9+Q11*Lists!$G$10+R11*Lists!$G$8+S11*Lists!$G$11 -> 0 | AC11: Total Number of Fish in Auction = | AD11: =AD9+AD10 -> 0 | AF11: Account Totals After Show Before Expenditures:
V12: =IF(B12="Y",(I12*Lists!$F$3+K12*Lists!$F$4+J12*Lists!$F$3),(I12*Lists!$F$5+K12*Lists!$F$6+J12*Lists!$F$5)) -> 0 | W12: =I12+K12 -> 0 | X12: =I12+K12*2 -> 0 | Y12: =G12-V12-T12+P12*Lists!$F$9+Q12*Lists!$F$10+S12*Lists!$F$11+R12*Lists!$F$8 -> 0 | AA12: =P12*Lists!$G$9+Q12*Lists!$G$10+R12*Lists!$G$8+S12*Lists!$G$11 -> 0 | AF12: Bank
V13: =IF(B13="Y",(I13*Lists!$F$3+K13*Lists!$F$4+J13*Lists!$F$3),(I13*Lists!$F$5+K13*Lists!$F$6+J13*Lists!$F$5)) -> 0 | W13: =I13+K13 -> 0 | X13: =I13+K13*2 -> 0 | Y13: =G13-V13-T13+P13*Lists!$F$9+Q13*Lists!$F$10+S13*Lists!$F$11+R13*Lists!$F$8 -> 0 | AA13: =P13*Lists!$G$9+Q13*Lists!$G$10+R13*Lists!$G$8+S13*Lists!$G$11 -> 0 | AC13: Other Show Expenses | AF13: Cash Drawer
V14: =IF(B14="Y",(I14*Lists!$F$3+K14*Lists!$F$4+J14*Lists!$F$3),(I14*Lists!$F$5+K14*Lists!$F$6+J14*Lists!$F$5)) -> 0 | W14: =I14+K14 -> 0 | X14: =I14+K14*2 -> 0 | Y14: =G14-V14-T14+P14*Lists!$F$9+Q14*Lists!$F$10+S14*Lists!$F$11+R14*Lists!$F$8 -> 0 | AA14: =P14*Lists!$G$9+Q14*Lists!$G$10+R14*Lists!$G$8+S14*Lists!$G$11 -> 0 | AC14: $25 Fee for Show Date = | AD14: 25 | AF14: PayPal
V15: =IF(B15="Y",(I15*Lists!$F$3+K15*Lists!$F$4+J15*Lists!$F$3),(I15*Lists!$F$5+K15*Lists!$F$6+J15*Lists!$F$5)) -> 0 | W15: =I15+K15 -> 0 | X15: =I15+K15*2 -> 0 | Y15: =G15-V15-T15+P15*Lists!$F$9+Q15*Lists!$F$10+S15*Lists!$F$11+R15*Lists!$F$8 -> 0 | AA15: =P15*Lists!$G$9+Q15*Lists!$G$10+R15*Lists!$G$8+S15*Lists!$G$11 -> 0 | AC15: Show Room Fee = | AD15: 0 | AG15: =SUM(AG12:AG14) -> 0
V16: =IF(B16="Y",(I16*Lists!$F$3+K16*Lists!$F$4+J16*Lists!$F$3),(I16*Lists!$F$5+K16*Lists!$F$6+J16*Lists!$F$5)) -> 0 | W16: =I16+K16 -> 0 | X16: =I16+K16*2 -> 0 | Y16: =G16-V16-T16+P16*Lists!$F$9+Q16*Lists!$F$10+S16*Lists!$F$11+R16*Lists!$F$8 -> 0 | AA16: =P16*Lists!$G$9+Q16*Lists!$G$10+R16*Lists!$G$8+S16*Lists!$G$11 -> 0 | AC16: Travel Expenses for Judge = | AD16: 0
V17: =IF(B17="Y",(I17*Lists!$F$3+K17*Lists!$F$4+J17*Lists!$F$3),(I17*Lists!$F$5+K17*Lists!$F$6+J17*Lists!$F$5)) -> 0 | W17: =I17+K17 -> 0 | X17: =I17+K17*2 -> 0 | Y17: =G17-V17-T17+P17*Lists!$F$9+Q17*Lists!$F$10+S17*Lists!$F$11+R17*Lists!$F$8 -> 0 | AA17: =P17*Lists!$G$9+Q17*Lists!$G$10+R17*Lists!$G$8+S17*Lists!$G$11 -> 0 | AC17: Room Expenses for Judge = | AD17: 0 | AF17: Difference in Total Accounts Before & After Show | AG17: =AG15-AG9 -> 0
V18: =IF(B18="Y",(I18*Lists!$F$3+K18*Lists!$F$4+J18*Lists!$F$3),(I18*Lists!$F$5+K18*Lists!$F$6+J18*Lists!$F$5)) -> 0 | W18: =I18+K18 -> 0 | X18: =I18+K18*2 -> 0 | Y18: =G18-V18-T18+P18*Lists!$F$9+Q18*Lists!$F$10+S18*Lists!$F$11+R18*Lists!$F$8 -> 0 | AA18: =P18*Lists!$G$9+Q18*Lists!$G$10+R18*Lists!$G$8+S18*Lists!$G$11 -> 0 | AC18: Food Expenses for Judge = | AD18: 0
V19: =IF(B19="Y",(I19*Lists!$F$3+K19*Lists!$F$4+J19*Lists!$F$3),(I19*Lists!$F$5+K19*Lists!$F$6+J19*Lists!$F$5)) -> 0 | W19: =I19+K19 -> 0 | X19: =I19+K19*2 -> 0 | Y19: =G19-V19-T19+P19*Lists!$F$9+Q19*Lists!$F$10+S19*Lists!$F$11+R19*Lists!$F$8 -> 0 | AA19: =P19*Lists!$G$9+Q19*Lists!$G$10+R19*Lists!$G$8+S19*Lists!$G$11 -> 0 | AF19: Expected Income Total | AG19: =AA42+V42+AE33 -> 0
V20: =IF(B20="Y",(I20*Lists!$F$3+K20*Lists!$F$4+J20*Lists!$F$3),(I20*Lists!$F$5+K20*Lists!$F$6+J20*Lists!$F$5)) -> 0 | W20: =I20+K20 -> 0 | X20: =I20+K20*2 -> 0 | Y20: =G20-V20-T20+P20*Lists!$F$9+Q20*Lists!$F$10+S20*Lists!$F$11+R20*Lists!$F$8 -> 0 | AA20: =P20*Lists!$G$9+Q20*Lists!$G$10+R20*Lists!$G$8+S20*Lists!$G$11 -> 0 | AF20: Expected Expense Total | AG20: =AD28 -> 25
V21: =IF(B21="Y",(I21*Lists!$F$3+K21*Lists!$F$4+J21*Lists!$F$3),(I21*Lists!$F$5+K21*Lists!$F$6+J21*Lists!$F$5)) -> 0 | W21: =I21+K21 -> 0 | X21: =I21+K21*2 -> 0 | Y21: =G21-V21-T21+P21*Lists!$F$9+Q21*Lists!$F$10+S21*Lists!$F$11+R21*Lists!$F$8 -> 0 | AA21: =P21*Lists!$G$9+Q21*Lists!$G$10+R21*Lists!$G$8+S21*Lists!$G$11 -> 0 | AC21: Awards = | AD21: 0 | AF21: Net Profit | AG21: =AG19-AG20 -> -25
V22: =IF(B22="Y",(I22*Lists!$F$3+K22*Lists!$F$4+J22*Lists!$F$3),(I22*Lists!$F$5+K22*Lists!$F$6+J22*Lists!$F$5)) -> 0 | W22: =I22+K22 -> 0 | X22: =I22+K22*2 -> 0 | Y22: =G22-V22-T22+P22*Lists!$F$9+Q22*Lists!$F$10+S22*Lists!$F$11+R22*Lists!$F$8 -> 0 | AA22: =P22*Lists!$G$9+Q22*Lists!$G$10+R22*Lists!$G$8+S22*Lists!$G$11 -> 0 | AC22: Miscellaneous Postage = | AD22: 0
V23: =IF(B23="Y",(I23*Lists!$F$3+K23*Lists!$F$4+J23*Lists!$F$3),(I23*Lists!$F$5+K23*Lists!$F$6+J23*Lists!$F$5)) -> 0 | W23: =I23+K23 -> 0 | X23: =I23+K23*2 -> 0 | Y23: =G23-V23-T23+P23*Lists!$F$9+Q23*Lists!$F$10+S23*Lists!$F$11+R23*Lists!$F$8 -> 0 | AA23: =P23*Lists!$G$9+Q23*Lists!$G$10+R23*Lists!$G$8+S23*Lists!$G$11 -> 0 | AC23: ? = | AD23: 0
V24: =IF(B24="Y",(I24*Lists!$F$3+K24*Lists!$F$4+J24*Lists!$F$3),(I24*Lists!$F$5+K24*Lists!$F$6+J24*Lists!$F$5)) -> 0 | W24: =I24+K24 -> 0 | X24: =I24+K24*2 -> 0 | Y24: =G24-V24-T24+P24*Lists!$F$9+Q24*Lists!$F$10+S24*Lists!$F$11+R24*Lists!$F$8 -> 0 | AA24: =P24*Lists!$G$9+Q24*Lists!$G$10+R24*Lists!$G$8+S24*Lists!$G$11 -> 0 | AC24: ? = | AD24: 0
V25: =IF(B25="Y",(I25*Lists!$F$3+K25*Lists!$F$4+J25*Lists!$F$3),(I25*Lists!$F$5+K25*Lists!$F$6+J25*Lists!$F$5)) -> 0 | W25: =I25+K25 -> 0 | X25: =I25+K25*2 -> 0 | Y25: =G25-V25-T25+P25*Lists!$F$9+Q25*Lists!$F$10+S25*Lists!$F$11+R25*Lists!$F$8 -> 0 | AA25: =P25*Lists!$G$9+Q25*Lists!$G$10+R25*Lists!$G$8+S25*Lists!$G$11 -> 0 | AC25: ? = | AD25: 0
V26: =IF(B26="Y",(I26*Lists!$F$3+K26*Lists!$F$4+J26*Lists!$F$3),(I26*Lists!$F$5+K26*Lists!$F$6+J26*Lists!$F$5)) -> 0 | W26: =I26+K26 -> 0 | X26: =I26+K26*2 -> 0 | Y26: =G26-V26-T26+P26*Lists!$F$9+Q26*Lists!$F$10+S26*Lists!$F$11+R26*Lists!$F$8 -> 0 | AA26: =P26*Lists!$G$9+Q26*Lists!$G$10+R26*Lists!$G$8+S26*Lists!$G$11 -> 0 | AC26: Miscellaneous (Food/Drink) = | AD26: 0
V27: =IF(B27="Y",(I27*Lists!$F$3+K27*Lists!$F$4+J27*Lists!$F$3),(I27*Lists!$F$5+K27*Lists!$F$6+J27*Lists!$F$5)) -> 0 | W27: =I27+K27 -> 0 | X27: =I27+K27*2 -> 0 | Y27: =G27-V27-T27+P27*Lists!$F$9+Q27*Lists!$F$10+S27*Lists!$F$11+R27*Lists!$F$8 -> 0 | AA27: =P27*Lists!$G$9+Q27*Lists!$G$10+R27*Lists!$G$8+S27*Lists!$G$11 -> 0 | AC27: Misc. (Computer Supplies) = | AD27: 0
V28: =IF(B28="Y",(I28*Lists!$F$3+K28*Lists!$F$4+J28*Lists!$F$3),(I28*Lists!$F$5+K28*Lists!$F$6+J28*Lists!$F$5)) -> 0 | W28: =I28+K28 -> 0 | X28: =I28+K28*2 -> 0 | Y28: =G28-V28-T28+P28*Lists!$F$9+Q28*Lists!$F$10+S28*Lists!$F$11+R28*Lists!$F$8 -> 0 | AA28: =P28*Lists!$G$9+Q28*Lists!$G$10+R28*Lists!$G$8+S28*Lists!$G$11 -> 0 | AC28: Total Show Expenses = | AD28: =SUM(AD14:AD27) -> 25
V29: =IF(B29="Y",(I29*Lists!$F$3+K29*Lists!$F$4+J29*Lists!$F$3),(I29*Lists!$F$5+K29*Lists!$F$6+J29*Lists!$F$5)) -> 0 | W29: =I29+K29 -> 0 | X29: =I29+K29*2 -> 0 | Y29: =G29-V29-T29+P29*Lists!$F$9+Q29*Lists!$F$10+S29*Lists!$F$11+R29*Lists!$F$8 -> 0 | AA29: =P29*Lists!$G$9+Q29*Lists!$G$10+R29*Lists!$G$8+S29*Lists!$G$11 -> 0
V30: =IF(B30="Y",(I30*Lists!$F$3+K30*Lists!$F$4+J30*Lists!$F$3),(I30*Lists!$F$5+K30*Lists!$F$6+J30*Lists!$F$5)) -> 0 | W30: =I30+K30 -> 0 | X30: =I30+K30*2 -> 0 | Y30: =G30-V30-T30+P30*Lists!$F$9+Q30*Lists!$F$10+S30*Lists!$F$11+R30*Lists!$F$8 -> 0 | AA30: =P30*Lists!$G$9+Q30*Lists!$G$10+R30*Lists!$G$8+S30*Lists!$G$11 -> 0 | AC30: $1 Raffle Tickets | AE30: 0
V31: =IF(B31="Y",(I31*Lists!$F$3+K31*Lists!$F$4+J31*Lists!$F$3),(I31*Lists!$F$5+K31*Lists!$F$6+J31*Lists!$F$5)) -> 0 | W31: =I31+K31 -> 0 | X31: =I31+K31*2 -> 0 | Y31: =G31-V31-T31+P31*Lists!$F$9+Q31*Lists!$F$10+S31*Lists!$F$11+R31*Lists!$F$8 -> 0 | AA31: =P31*Lists!$G$9+Q31*Lists!$G$10+R31*Lists!$G$8+S31*Lists!$G$11 -> 0 | AC31: $5 Raffle Tickets | AE31: 0
V32: =IF(B32="Y",(I32*Lists!$F$3+K32*Lists!$F$4+J32*Lists!$F$3),(I32*Lists!$F$5+K32*Lists!$F$6+J32*Lists!$F$5)) -> 0 | W32: =I32+K32 -> 0 | X32: =I32+K32*2 -> 0 | Y32: =G32-V32-T32+P32*Lists!$F$9+Q32*Lists!$F$10+S32*Lists!$F$11+R32*Lists!$F$8 -> 0 | AA32: =P32*Lists!$G$9+Q32*Lists!$G$10+R32*Lists!$G$8+S32*Lists!$G$11 -> 0 | AC32: Cash Table (Club Donations) | AE32: 0
V33: =IF(B33="Y",(I33*Lists!$F$3+K33*Lists!$F$4+J33*Lists!$F$3),(I33*Lists!$F$5+K33*Lists!$F$6+J33*Lists!$F$5)) -> 0 | W33: =I33+K33 -> 0 | X33: =I33+K33*2 -> 0 | Y33: =G33-V33-T33+P33*Lists!$F$9+Q33*Lists!$F$10+S33*Lists!$F$11+R33*Lists!$F$8 -> 0 | AA33: =P33*Lists!$G$9+Q33*Lists!$G$10+R33*Lists!$G$8+S33*Lists!$G$11 -> 0 | AC33: Total Raffle/Other Income | AE33: =SUM(AE30:AE32) -> 0
V34: =IF(B34="Y",(I34*Lists!$F$3+K34*Lists!$F$4+J34*Lists!$F$3),(I34*Lists!$F$5+K34*Lists!$F$6+J34*Lists!$F$5)) -> 0 | W34: =I34+K34 -> 0 | X34: =I34+K34*2 -> 0 | Y34: =G34-V34-T34+P34*Lists!$F$9+Q34*Lists!$F$10+S34*Lists!$F$11+R34*Lists!$F$8 -> 0 | AA34: =P34*Lists!$G$9+Q34*Lists!$G$10+R34*Lists!$G$8+S34*Lists!$G$11 -> 0
V35: =IF(B35="Y",(I35*Lists!$F$3+K35*Lists!$F$4+J35*Lists!$F$3),(I35*Lists!$F$5+K35*Lists!$F$6+J35*Lists!$F$5)) -> 0 | W35: =I35+K35 -> 0 | X35: =I35+K35*2 -> 0 | Y35: =G35-V35-T35+P35*Lists!$F$9+Q35*Lists!$F$10+S35*Lists!$F$11+R35*Lists!$F$8 -> 0 | AA35: =P35*Lists!$G$9+Q35*Lists!$G$10+R35*Lists!$G$8+S35*Lists!$G$11 -> 0
V36: =IF(B36="Y",(I36*Lists!$F$3+K36*Lists!$F$4+J36*Lists!$F$3),(I36*Lists!$F$5+K36*Lists!$F$6+J36*Lists!$F$5)) -> 0 | W36: =I36+K36 -> 0 | X36: =I36+K36*2 -> 0 | Y36: =G36-V36-T36+P36*Lists!$F$9+Q36*Lists!$F$10+S36*Lists!$F$11+R36*Lists!$F$8 -> 0 | AA36: =P36*Lists!$G$9+Q36*Lists!$G$10+R36*Lists!$G$8+S36*Lists!$G$11 -> 0
V37: =IF(B37="Y",(I37*Lists!$F$3+K37*Lists!$F$4+J37*Lists!$F$3),(I37*Lists!$F$5+K37*Lists!$F$6+J37*Lists!$F$5)) -> 0 | W37: =I37+K37 -> 0 | X37: =I37+K37*2 -> 0 | Y37: =G37-V37-T37+P37*Lists!$F$9+Q37*Lists!$F$10+S37*Lists!$F$11+R37*Lists!$F$8 -> 0 | AA37: =P37*Lists!$G$9+Q37*Lists!$G$10+R37*Lists!$G$8+S37*Lists!$G$11 -> 0
V38: =IF(B38="Y",(I38*Lists!$F$3+K38*Lists!$F$4+J38*Lists!$F$3),(I38*Lists!$F$5+K38*Lists!$F$6+J38*Lists!$F$5)) -> 0 | W38: =I38+K38 -> 0 | X38: =I38+K38*2 -> 0 | Y38: =G38-V38-T38+P38*Lists!$F$9+Q38*Lists!$F$10+S38*Lists!$F$11+R38*Lists!$F$8 -> 0 | AA38: =P38*Lists!$G$9+Q38*Lists!$G$10+R38*Lists!$G$8+S38*Lists!$G$11 -> 0
V39: =IF(B39="Y",(I39*Lists!$F$3+K39*Lists!$F$4+J39*Lists!$F$3),(I39*Lists!$F$5+K39*Lists!$F$6+J39*Lists!$F$5)) -> 0 | W39: =I39+K39 -> 0 | X39: =I39+K39*2 -> 0 | Y39: =G39-V39-T39+P39*Lists!$F$9+Q39*Lists!$F$10+S39*Lists!$F$11+R39*Lists!$F$8 -> 0 | AA39: =P39*Lists!$G$9+Q39*Lists!$G$10+R39*Lists!$G$8+S39*Lists!$G$11 -> 0
V40: =IF(B40="Y",(I40*Lists!$F$3+K40*Lists!$F$4+J40*Lists!$F$3),(I40*Lists!$F$5+K40*Lists!$F$6+J40*Lists!$F$5)) -> 0 | W40: =I40+K40 -> 0 | X40: =I40+K40*2 -> 0 | Y40: =G40-V40-T40+P40*Lists!$F$9+Q40*Lists!$F$10+S40*Lists!$F$11+R40*Lists!$F$8 -> 0 | AA40: =P40*Lists!$G$9+Q40*Lists!$G$10+R40*Lists!$G$8+S40*Lists!$G$11 -> 0
A42: =COUNTA(A5:A40) -> 0 | B42: --- | D42: --- | E42: --- | F42: --- | G42: =SUM(G5:G40) -> 0 | H42: --- | I42: =SUM(I5:I40) -> 0 | K42: =SUM(K5:K40) -> 0 | L42: --- | M42: --- | N42: =SUM(N5:N40) -> 0 | O42: =SUM(O5:O40) -> 0 | P42: =SUM(P5:P40) -> 0 | Q42: =SUM(Q5:Q40) -> 0 | R42: =SUM(R5:R40) -> 0 | S42: =SUM(S5:S40) -> 0 | T42: --- | V42: =SUM(V5:V40) -> 0 | W42: =SUM(W5:W40) -> 0 | X42: =SUM(X5:X40) -> 0 | Y42: =-SUM(Y5:Y40) -> 0 | AA42: =SUM(AA5:AA40) -> 0
G43: Total Paid Monies | H43: Method of Payment | I43: # Single Fish Entries | K43: # Fish Pair Entries | L43: Other Cash Table Items | M43: Return Postage Paid | N43: # Entries for Auction | O43: # Auction Only Fish | P43: Total $ Sold Fish Entries | Q43: Total $ Sold Auction Only Fish | R43: Total $ Breeder Cup | S43: Sold Cash Table | T43: Club Cost Return Postage | V43: Entry Fees Owed | W43: Total Entries | X43: Total Fish Entered | Y43: Amount Due Exhibitor | AA43: ABC Club Sales Split Total
A129: NB2 | D129: NB3 | E129: NB4 | F129: NB5 | G129: NB7 | I129: NB8 | K129: NB9 | M129: NB10 | O129: JB1 | P129: JB2 | Q129: JB3 | R129: JB5 | S129: JB4 | T129: JB6 | V129: AC2 | W129: AC3 | X129: AC4
...

Sheet BeanieLabels (5 Count)
A1: This file is set up to print your Beannie Baby labels. When you have assigned your Class and Entry numbers to your Consecutive numbers on the 'Show Information' sheet they will appear on this sheet automatically. The middle cell with the '|' is the marker for the corner of the Beannie Baby. Rows 1 - 3 with these directions will not be in your print range. This sheet is set up for Avery Removable File Folder labels, 5 Labels per sheet (1" x 3") #5436.
A2: These numbers are linked(with formulas)to the Show Information sheet and will populate as you enter in class and entry numbers. This sheet is currently set up for 360 entries. If you have more, you will have to add the extra lines on the Show Information sheet, add the formulas to this sheet, and adjust the print area as needed. Currently this sheet is set to print 360 labels, to adjust this you will need to adjust the print area. Or Christina Simpson and she'll expand it for you!
A3: Consecutive # | C3: Class - Entry #
A4: =IF(ShowContinuousLog!E7="N",CONCATENATE(ShowContinuousLog!A7," ",ShowContinuousLog!E7),CONCATENATE(ShowContinuousLog!A7, " ",ShowContinuousLog!E7," $",ShowContinuousLog!F7)) -> 1 N | B4: | | C4: =CONCATENATE(ShowContinuousLog!C7,"-",ShowContinuousLog!D7) -> A1-2
A5: =IF(ShowContinuousLog!E8="N",CONCATENATE(ShowContinuousLog!A8," ",ShowContinuousLog!E8),CONCATENATE(ShowContinuousLog!A8, " ",ShowContinuousLog!E8," $",ShowContinuousLog!F8)) -> 2 N | B5: | | C5: =CONCATENATE(ShowContinuousLog!C8,"-",ShowContinuousLog!D8) -> A1-3
A6: =IF(ShowContinuousLog!E9="N",CONCATENATE(ShowContinuousLog!A9," ",ShowContinuousLog!E9),CONCATENATE(ShowContinuousLog!A9, " ",ShowContinuousLog!E9," $",ShowContinuousLog!F9)) -> 3 N | B6: | | C6: =CONCATENATE(ShowContinuousLog!C9,"-",ShowContinuousLog!D9) -> A3-1
A7: =IF(ShowContinuousLog!E10="N",CONCATENATE(ShowContinuousLog!A10," ",ShowContinuousLog!E10),CONCATENATE(ShowContinuousLog!A10, " ",ShowContinuousLog!E10," $",ShowContinuousLog!F10)) -> 4 N | B7: | | C7: =CONCATENATE(ShowContinuousLog!C10,"-",ShowContinuousLog!D10) -> A10-4
A8: =IF(ShowContinuousLog!E11="N",CONCATENATE(ShowContinuousLog!A11," ",ShowContinuousLog!E11),CONCATENATE(ShowContinuousLog!A11, " ",ShowContinuousLog!E11," $",ShowContinuousLog!F11)) -> 5 N | B8: | | C8: =CONCATENATE(ShowContinuousLog!C11,"-",ShowContinuousLog!D11) -> B21-1
A9: =IF(ShowContinuousLog!E12="N",CONCATENATE(ShowContinuousLog!A12," ",ShowContinuousLog!E12),CONCATENATE(ShowContinuousLog!A12, " ",ShowContinuousLog!E12," $",ShowContinuousLog!F12)) -> 6 N | B9: | | C9: =CONCATENATE(ShowContinuousLog!C12,"-",ShowContinuousLog!D12) -> A24-2
A10: =IF(ShowContinuousLog!E13="N",CONCATENATE(ShowContinuousLog!A13," ",ShowContinuousLog!E13),CONCATENATE(ShowContinuousLog!A13, " ",ShowContinuousLog!E13," $",ShowContinuousLog!F13)) -> 7 N | B10: | | C10: =CONCATENATE(ShowContinuousLog!C13,"-",ShowContinuousLog!D13) -> B1-2
A11: =IF(ShowContinuousLog!E14="N",CONCATENATE(ShowContinuousLog!A14," ",ShowContinuousLog!E14),CONCATENATE(ShowContinuousLog!A14, " ",ShowContinuousLog!E14," $",ShowContinuousLog!F14)) -> 8 N | B11: | | C11: =CONCATENATE(ShowContinuousLog!C14,"-",ShowContinuousLog!D14) -> B1-3
A12: =IF(ShowContinuousLog!E15="N",CONCATENATE(ShowContinuousLog!A15," ",ShowContinuousLog!E15),CONCATENATE(ShowContinuousLog!A15, " ",ShowContinuousLog!E15," $",ShowContinuousLog!F15)) -> 9 N | B12: | | C12: =CONCATENATE(ShowContinuousLog!C15,"-",ShowContinuousLog!D15) -> B1-4
A13: =IF(ShowContinuousLog!E16="N",CONCATENATE(ShowContinuousLog!A16," ",ShowContinuousLog!E16),CONCATENATE(ShowContinuousLog!A16, " ",ShowContinuousLog!E16," $",ShowContinuousLog!F16)) -> 10 N | B13: | | C13: =CONCATENATE(ShowContinuousLog!C16,"-",ShowContinuousLog!D16) -> B3-4
A14: =IF(ShowContinuousLog!E17="N",CONCATENATE(ShowContinuousLog!A17," ",ShowContinuousLog!E17),CONCATENATE(ShowContinuousLog!A17, " ",ShowContinuousLog!E17," $",ShowContinuousLog!F17)) -> 11 N | B14: | | C14: =CONCATENATE(ShowContinuousLog!C17,"-",ShowContinuousLog!D17) -> B3-5
A15: =IF(ShowContinuousLog!E18="N",CONCATENATE(ShowContinuousLog!A18," ",ShowContinuousLog!E18),CONCATENATE(ShowContinuousLog!A18, " ",ShowContinuousLog!E18," $",ShowContinuousLog!F18)) -> 12 N | B15: | | C15: =CONCATENATE(ShowContinuousLog!C18,"-",ShowContinuousLog!D18) -> B3-6
... A363: =IF(ShowContinuousLog!E366="N",CONCATENATE(ShowContinuousLog!A366," ",ShowContinuousLog!E366),CONCATENATE(ShowContinuousLog!A366, " ",ShowContinuousLog!E366," $",ShowContinuousLog!F366)) -> $ | B363: | | C363: =CONCATENATE(ShowContinuousLog!C366,"-",ShowContinuousLog!D366) -> -

Sheet BeanieLabels (30 Count)
A1: This file is set up to print your Beannie Baby labels. When you have assigned your Class and Entry numbers to your Consecutive numbers on the 'Show Information' sheet they will appear on this sheet automatically. The middle cell with the '|' is the marker for the corner of the Beannie Baby. Rows 1 - 3 with these directions will not be in your print range. This sheet is set up for Avery Removable File Folder labels, 30 Labels per sheet (1" x 27/16").
A2: These numbers are linked(with formulas)to the Show Information sheet and will populate as you enter in class and entry numbers. This sheet is currently set up for 360 entries. If you have more, you will have to add the extra lines on the Show Information sheet, add the formulas to this sheet, and adjust the print area as needed. Currently this sheet is set to print 360 labels, to adjust this you will need to adjust the print area. Or Christina Simpson and she'll expand it for you!
A3: Consecutive # | C3: Class - Entry #
A4: =IF(ShowContinuousLog!E7="N",CONCATENATE(ShowContinuousLog!A7," ",ShowContinuousLog!E7),CONCATENATE(ShowContinuousLog!A7, " ",ShowContinuousLog!E7," $",ShowContinuousLog!F7)) -> 1 N | B4: | | C4: =CONCATENATE(ShowContinuousLog!C7,"-",ShowContinuousLog!D7) -> A1-2 | E4: =IF(ShowContinuousLog!E22="N",CONCATENATE(ShowContinuousLog!A22," ",ShowContinuousLog!E22),CONCATENATE(ShowContinuousLog!A22, " ",ShowContinuousLog!E22," $",ShowContinuousLog!F22)) -> 16 N | F4: | | G4: =CONCATENATE(ShowContinuousLog!C22,"-",ShowContinuousLog!D22) -> B6-12
A5: =IF(ShowContinuousLog!E8="N",CONCATENATE(ShowContinuousLog!A8," ",ShowContinuousLog!E8),CONCATENATE(ShowContinuousLog!A8, " ",ShowContinuousLog!E8," $",ShowContinuousLog!F8)) -> 2 N | B5: | | C5: =CONCATENATE(ShowContinuousLog!C8,"-",ShowContinuousLog!D8) -> A1-3 | E5: =IF(ShowContinuousLog!E23="N",CONCATENATE(ShowContinuousLog!A23," ",ShowContinuousLog!E23),CONCATENATE(ShowContinuousLog!A23, " ",ShowContinuousLog!E23," $",ShowContinuousLog!F23)) -> 17 N | F5: | | G5: =CONCATENATE(ShowContinuousLog!C23,"-",ShowContinuousLog!D23) -> B6-13
A6: =IF(ShowContinuousLog!E9="N",CONCATENATE(ShowContinuousLog!A9," ",ShowContinuousLog!E9),CONCATENATE(ShowContinuousLog!A9, " ",ShowContinuousLog!E9," $",ShowContinuousLog!F9)) -> 3 N | B6: | | C6: =CONCATENATE(ShowContinuousLog!C9,"-",ShowContinuousLog!D9) -> A3-1 | E6: =IF(ShowContinuousLog!E24="N",CONCATENATE(ShowContinuousLog!A24," ",ShowContinuousLog!E24),CONCATENATE(ShowContinuousLog!A24, " ",ShowContinuousLog!E24," $",ShowContinuousLog!F24)) -> 18 N | F6: | | G6: =CONCATENATE(ShowContinuousLog!C24,"-",ShowContinuousLog!D24) -> B6-6
A7: =IF(ShowContinuousLog!E10="N",CONCATENATE(ShowContinuousLog!A10," ",ShowContinuousLog!E10),CONCATENATE(ShowContinuousLog!A10, " ",ShowContinuousLog!E10," $",ShowContinuousLog!F10)) -> 4 N | B7: | | C7: =CONCATENATE(ShowContinuousLog!C10,"-",ShowContinuousLog!D10) -> A10-4 | E7: =IF(ShowContinuousLog!E25="N",CONCATENATE(ShowContinuousLog!A25," ",ShowContinuousLog!E25),CONCATENATE(ShowContinuousLog!A25, " ",ShowContinuousLog!E25," $",ShowContinuousLog!F25)) -> 19 N | F7: | | G7: =CONCATENATE(ShowContinuousLog!C25,"-",ShowContinuousLog!D25) -> B7-2
A8: =IF(ShowContinuousLog!E11="N",CONCATENATE(ShowContinuousLog!A11," ",ShowContinuousLog!E11),CONCATENATE(ShowContinuousLog!A11, " ",ShowContinuousLog!E11," $",ShowContinuousLog!F11)) -> 5 N | B8: | | C8: =CONCATENATE(ShowContinuousLog!C11,"-",ShowContinuousLog!D11) -> B21-1 | E8: =IF(ShowContinuousLog!E26="N",CONCATENATE(ShowContinuousLog!A26," ",ShowContinuousLog!E26),CONCATENATE(ShowContinuousLog!A26, " ",ShowContinuousLog!E26," $",ShowContinuousLog!F26)) -> 20 N | F8: | | G8: =CONCATENATE(ShowContinuousLog!C26,"-",ShowContinuousLog!D26) -> B7-3
A9: =IF(ShowContinuousLog!E12="N",CONCATENATE(ShowContinuousLog!A12," ",ShowContinuousLog!E12),CONCATENATE(ShowContinuousLog!A12, " ",ShowContinuousLog!E12," $",ShowContinuousLog!F12)) -> 6 N | B9: | | C9: =CONCATENATE(ShowContinuousLog!C12,"-",ShowContinuousLog!D12) -> A24-2 | E9: =IF(ShowContinuousLog!E27="N",CONCATENATE(ShowContinuousLog!A27," ",ShowContinuousLog!E27),CONCATENATE(ShowContinuousLog!A27, " ",ShowContinuousLog!E27," $",ShowContinuousLog!F27)) -> 21 N | F9: | | G9: =CONCATENATE(ShowContinuousLog!C27,"-",ShowContinuousLog!D27) -> B10-2
A10: =IF(ShowContinuousLog!E13="N",CONCATENATE(ShowContinuousLog!A13," ",ShowContinuousLog!E13),CONCATENATE(ShowContinuousLog!A13, " ",ShowContinuousLog!E13," $",ShowContinuousLog!F13)) -> 7 N | B10: | | C10: =CONCATENATE(ShowContinuousLog!C13,"-",ShowContinuousLog!D13) -> B1-2 | E10: =IF(ShowContinuousLog!E28="N",CONCATENATE(ShowContinuousLog!A28," ",ShowContinuousLog!E28),CONCATENATE(ShowContinuousLog!A28, " ",ShowContinuousLog!E28," $",ShowContinuousLog!F28)) -> 22 N | F10: | | G10: =CONCATENATE(ShowContinuousLog!C28,"-",ShowContinuousLog!D28) -> B10-3
A11: =IF(ShowContinuousLog!E14="N",CONCATENATE(ShowContinuousLog!A14," ",ShowContinuousLog!E14),CONCATENATE(ShowContinuousLog!A14, " ",ShowContinuousLog!E14," $",ShowContinuousLog!F14)) -> 8 N | B11: | | C11: =CONCATENATE(ShowContinuousLog!C14,"-",ShowContinuousLog!D14) -> B1-3 | E11: =IF(ShowContinuousLog!E29="N",CONCATENATE(ShowContinuousLog!A29," ",ShowContinuousLog!E29),CONCATENATE(ShowContinuousLog!A29, " ",ShowContinuousLog!E29," $",ShowContinuousLog!F29)) -> 23 N | F11: | | G11: =CONCATENATE(ShowContinuousLog!C29,"-",ShowContinuousLog!D29) -> B13-1
A12: =IF(ShowContinuousLog!E15="N",CONCATENATE(ShowContinuousLog!A15," ",ShowContinuousLog!E15),CONCATENATE(ShowContinuousLog!A15, " ",ShowContinuousLog!E15," $",ShowContinuousLog!F15)) -> 9 N | B12: | | C12: =CONCATENATE(ShowContinuousLog!C15,"-",ShowContinuousLog!D15) -> B1-4 | E12: =IF(ShowContinuousLog!E30="N",CONCATENATE(ShowContinuousLog!A30," ",ShowContinuousLog!E30),CONCATENATE(ShowContinuousLog!A30, " ",ShowContinuousLog!E30," $",ShowContinuousLog!F30)) -> 24 N | F12: | | G12: =CONCATENATE(ShowContinuousLog!C30,"-",ShowContinuousLog!D30) -> B13-2
